BEGIN:VCALENDAR
VERSION:2.0
PRODID:-//Tukios.com/
BEGIN:VEVENT
UID:a7cb8f71-8720-46ca-9867-36e66c2c420b@www.wagesandsons.com
DTSTAMP:20260421T220259Z
DTSTART:20260422T180000Z
DTEND:20260422T200000Z
SUMMARY:Funeral Service
DESCRIPTION:
URL:https://www.wagesandsons.com/obituaries/arvindlal-patel
LOCATION: 1031 Lawrenceville Hwy  Lawrenceville GA 30046
GEO:33.9414673;-84.0150073
END:VEVENT
END:VCALENDAR