BEGIN:VCALENDAR
VERSION:2.0
PRODID:-//Tukios.com/
BEGIN:VEVENT
UID:03e05ef7-5af4-43ee-8ecd-69d8a4d56882@www.wagesandsons.com
DTSTAMP:20260421T232258Z
DTSTART:20260425T150000Z
DTEND:20260425T160000Z
SUMMARY:Memorial Service
DESCRIPTION:
URL:https://www.wagesandsons.com/obituaries/barbara-davenport-smith
LOCATION: 50 Harmony Grove Road  Lilburn GA 30047
GEO:33.8748662;-84.1641977
END:VEVENT
END:VCALENDAR