BEGIN:VCALENDAR
VERSION:2.0
PRODID:-//Tukios.com/
BEGIN:VEVENT
UID:4f86324f-bc9c-4898-8df8-f0cebf54c8a4@www.wagesandsons.com
DTSTAMP:20260421T172110Z
DTSTART:20260423T180000Z
DTEND:20260423T193000Z
SUMMARY:Funeral Service
DESCRIPTION:
URL:https://www.wagesandsons.com/obituaries/chandrakant-v-patel
LOCATION: 1031 Lawrenceville Hwy  Lawrenceville GA 30046
GEO:33.9414673;-84.0150073
END:VEVENT
END:VCALENDAR