BEGIN:VCALENDAR
VERSION:2.0
PRODID:-//Tukios.com/
BEGIN:VEVENT
UID:a0f6a6c1-a4f2-4c74-a547-71f1b15e2691@www.wagesandsons.com
DTSTAMP:20260424T190634Z
DTSTART:20260424T210000Z
DTEND:20260425T010000Z
SUMMARY:Visitation
DESCRIPTION:
URL:https://www.wagesandsons.com/obituaries/kevin-tran
LOCATION: 1031 Lawrenceville Hwy  Lawrenceville GA 30046
GEO:33.9414673;-84.0150073
END:VEVENT
END:VCALENDAR