BEGIN:VCALENDAR
VERSION:2.0
PRODID:-//Tukios.com/
BEGIN:VEVENT
UID:a0ab27bb-e9ac-4ea8-8a85-2b08e9f1c115@www.wagesandsons.com
DTSTAMP:20260424T191109Z
DTSTART:20260425T130000Z
DTEND:20260425T160000Z
SUMMARY:Funeral Service
DESCRIPTION:
URL:https://www.wagesandsons.com/obituaries/kevin-tran
LOCATION: 1031 Lawrenceville Hwy  Lawrenceville GA 30046
GEO:33.9414673;-84.0150073
END:VEVENT
END:VCALENDAR