BEGIN:VCALENDAR
VERSION:2.0
PRODID:-//Tukios.com/
BEGIN:VEVENT
UID:87dd9048-bdd2-4a06-8e9c-51f62b84f6dd@www.wagesandsons.com
DTSTAMP:20260423T000308Z
DTSTART:20260424T160000Z
DTEND:20260424T180000Z
SUMMARY:Funeral Service
DESCRIPTION:
URL:https://www.wagesandsons.com/obituaries/rupa-doshi
LOCATION: 1031 Lawrenceville Hwy  Lawrenceville GA 30046
GEO:33.9414673;-84.0150073
END:VEVENT
END:VCALENDAR