BEGIN:VCALENDAR
VERSION:2.0
PRODID:-//Tukios.com/
BEGIN:VEVENT
UID:0b163a00-6928-4bc3-a0c1-d4ee1992544b@www.wagesandsons.com
DTSTAMP:20260424T222251Z
DTSTART:20260428T160000Z
DTEND:20260428T163000Z
SUMMARY:Graveside Service
DESCRIPTION:
URL:https://www.wagesandsons.com/obituaries/william-holman-sr
LOCATION: 202 Hebron Church Road  Dacula GA 30019
GEO:33.9982571;-83.9093335
END:VEVENT
END:VCALENDAR