BEGIN:VCALENDAR
VERSION:2.0
PRODID:-//Tukios.com/
BEGIN:VEVENT
UID:bb56d0ab-b9e5-4582-b12b-b7a39fef82a4@www.wagesandsons.com
DTSTAMP:20260420T202356Z
DTSTART:20260421T143000Z
DTEND:20260421T173000Z
SUMMARY:Funeral Service
DESCRIPTION:
URL:https://www.wagesandsons.com/obituaries/yash-patel
LOCATION: 1031 Lawrenceville Hwy  Lawrenceville GA 30046
GEO:33.9414673;-84.0150073
END:VEVENT
END:VCALENDAR